BEGIN:VCALENDAR
VERSION:2.0
PRODID:icalendar-ruby
CALSCALE:GREGORIAN
METHOD:PUBLISH
BEGIN:VEVENT
DTSTAMP:20260419T212043Z
UID:16-582003@largofirstnazarene.com
DTSTART:20260831T223000Z
DTEND:20260831T233000Z
CLASS:PUBLIC
CREATED:20260419T152156
DESCRIPTION:\nWhat is Alpha?\n\n\nWhether you’re curious about faith or j
 ust want space to talk about life\, Alpha is for you. It runs all over the
  world in churches\, homes\, cafés\, and online\, bringing people togethe
 r to watch thought-provoking talks and have honest conversations. No press
 ure\, no judgment\, just real connection. And everyone’s welcome.\n\n
LAST-MODIFIED:20260419T152156
LOCATION:610 2nd ave ne\, largo\, fl 33770
SUMMARY:ALPHA 
URL;VALUE=URI:https://www.largofirstnazarene.com/events/alpha/2026-08-31
END:VEVENT
END:VCALENDAR
